BEGIN:VCALENDAR
VERSION:2.0
PRODID:SchoolNow
CALSCALE:GREGORIAN
BEGIN:VEVENT
UID:aed65386-373f-11f1-8d1c-0a58a9feac02
DTSTAMP:20260424T112007Z
SUMMARY:Spanish Honor Society- Patriot Rm 6th Period
URL;VALUE=URI:https://www.heritagepatriots.com/calendar/8990829/spanish-hon
 or-society-patriot-rm-6th-period
DTSTART;VALUE=DATE:20260505
DTEND;VALUE=DATE:20260506
END:VEVENT
END:VCALENDAR
