BEGIN:VCALENDAR
VERSION:2.0
PRODID:SchoolNow
CALSCALE:GREGORIAN
BEGIN:VEVENT
UID:7ed41f1a-3e92-11f1-9fff-02dcbb876d61
DTSTAMP:20260424T100034Z
SUMMARY:2nd Round Girls Soccer
URL;VALUE=URI:https://www.heritagepatriots.com/athletics/calendar/9011781/2
 nd-round-girls-soccer
DTSTART;VALUE=DATE:20260428
DTEND;VALUE=DATE:20260429
END:VEVENT
END:VCALENDAR
