BEGIN:VCALENDAR
VERSION:2.0
PRODID:SchoolNow
CALSCALE:GREGORIAN
BEGIN:VEVENT
UID:7ed413e4-3e92-11f1-ba58-02dcbb876d61
DTSTAMP:20260423T094032Z
SUMMARY:First Round Girls Soccer vs Madison St Joe
URL;VALUE=URI:https://www.heritagepatriots.com/athletics/calendar/9011780/f
 irst-round-girls-soccer-vs-madison-st-joe
DTSTART:20260423T223000Z
DTEND:20260423T233000Z
END:VEVENT
END:VCALENDAR
