BEGIN:VCALENDAR
VERSION:2.0
PRODID:SchoolNow
CALSCALE:GREGORIAN
BEGIN:VEVENT
UID:af37758a-3a96-11f1-8a45-0affdb664f4f
DTSTAMP:20260421T090037Z
SUMMARY:Tennis State @ Ridgeland
URL;VALUE=URI:https://www.heritagepatriots.com/athletics/calendar/9001054/t
 ennis-state-ridgeland
DTSTART;VALUE=DATE:20260423
DTEND;VALUE=DATE:20260424
END:VEVENT
END:VCALENDAR
