BEGIN:VCALENDAR
VERSION:2.0
PRODID:SchoolNow
CALSCALE:GREGORIAN
BEGIN:VEVENT
UID:5160894c-f315-11f0-94fa-0a58a9feac02
DTSTAMP:20260422T092030Z
SUMMARY:Track- Varsity North State Running @ Bayou
URL;VALUE=URI:https://www.heritagepatriots.com/athletics/calendar/8837214/t
 rack-varsity-north-state-running-bayou
DTSTART;VALUE=DATE:20260425
DTEND;VALUE=DATE:20260426
END:VEVENT
END:VCALENDAR
