BEGIN:VCALENDAR
VERSION:2.0
PRODID:SchoolNow
CALSCALE:GREGORIAN
BEGIN:VEVENT
UID:511c54a2-f315-11f0-878f-0a58a9feac02
DTSTAMP:20260421T090037Z
SUMMARY:Track- Varsity North State Fields @ Bayou
URL;VALUE=URI:https://www.heritagepatriots.com/athletics/calendar/8837207/t
 rack-varsity-north-state-fields-bayou
DTSTART;VALUE=DATE:20260422
DTEND;VALUE=DATE:20260423
END:VEVENT
END:VCALENDAR
