BEGIN:VCALENDAR
VERSION:2.0
PRODID:SchoolNow
CALSCALE:GREGORIAN
BEGIN:VEVENT
UID:511c485e-f315-11f0-9cfd-0a58a9feac02
DTSTAMP:20260424T100034Z
SUMMARY:Track- Varsity State Championships
URL;VALUE=URI:https://www.heritagepatriots.com/athletics/calendar/8837202/t
 rack-varsity-state-championships
DTSTART;VALUE=DATE:20260501
DTEND;VALUE=DATE:20260503
END:VEVENT
END:VCALENDAR
