BEGIN:VCALENDAR
VERSION:2.0
PRODID:SchoolNow
CALSCALE:GREGORIAN
BEGIN:VEVENT
UID:4d6e05b4-bb50-11f0-a016-0ebc5076ea0f
DTSTAMP:20260424T100034Z
SUMMARY:Girls Soccer Quarterfinals
URL;VALUE=URI:https://www.heritagepatriots.com/athletics/calendar/8781508/g
 irls-soccer-quarterfinals
DTSTART;VALUE=DATE:20260504
DTEND;VALUE=DATE:20260505
END:VEVENT
END:VCALENDAR
