BEGIN:VCALENDAR
VERSION:2.0
PRODID:SchoolNow
CALSCALE:GREGORIAN
BEGIN:VEVENT
UID:bcbb2f46-b05b-11f0-8902-0edf2a789423
DTSTAMP:20260425T102027Z
SUMMARY:Athletic Banquet 6:00
URL;VALUE=URI:https://www.heritagepatriots.com/athletics/calendar/8745568/a
 thletic-banquet-6-00
DTSTART;VALUE=DATE:20260506
DTEND;VALUE=DATE:20260507
END:VEVENT
END:VCALENDAR
