BEGIN:VCALENDAR
VERSION:2.0
PRODID:SchoolNow
CALSCALE:GREGORIAN
BEGIN:VEVENT
UID:bcbb2bcc-b05b-11f0-8926-0edf2a789423
DTSTAMP:20260421T090037Z
SUMMARY:Baseball @ Pillow
URL;VALUE=URI:https://www.heritagepatriots.com/athletics/calendar/8745564/b
 aseball-pillow
DTSTART;VALUE=DATE:20260423
DTEND;VALUE=DATE:20260424
END:VEVENT
END:VCALENDAR
